BEGIN:VCALENDAR
VERSION:2.0
PRODID:-//Vital Fabrik - ECPv6.15.15//NONSGML v1.0//EN
CALSCALE:GREGORIAN
METHOD:PUBLISH
X-WR-CALNAME:Vital Fabrik
X-ORIGINAL-URL:https://www.vital-fabrik.at
X-WR-CALDESC:Veranstaltungen für Vital Fabrik
REFRESH-INTERVAL;VALUE=DURATION:PT1H
X-Robots-Tag:noindex
X-PUBLISHED-TTL:PT1H
BEGIN:VTIMEZONE
TZID:Europe/Vienna
BEGIN:DAYLIGHT
TZOFFSETFROM:+0100
TZOFFSETTO:+0200
TZNAME:CEST
DTSTART:20250330T010000
END:DAYLIGHT
BEGIN:STANDARD
TZOFFSETFROM:+0200
TZOFFSETTO:+0100
TZNAME:CET
DTSTART:20251026T010000
END:STANDARD
BEGIN:DAYLIGHT
TZOFFSETFROM:+0100
TZOFFSETTO:+0200
TZNAME:CEST
DTSTART:20260329T010000
END:DAYLIGHT
BEGIN:STANDARD
TZOFFSETFROM:+0200
TZOFFSETTO:+0100
TZNAME:CET
DTSTART:20261025T010000
END:STANDARD
BEGIN:DAYLIGHT
TZOFFSETFROM:+0100
TZOFFSETTO:+0200
TZNAME:CEST
DTSTART:20270328T010000
END:DAYLIGHT
BEGIN:STANDARD
TZOFFSETFROM:+0200
TZOFFSETTO:+0100
TZNAME:CET
DTSTART:20271031T010000
END:STANDARD
END:VTIMEZONE
BEGIN:VEVENT
DTSTART;TZID=Europe/Vienna:20260303T180000
DTEND;TZID=Europe/Vienna:20260303T190000
DTSTAMP:20260421T013843
CREATED:20260204T160637Z
LAST-MODIFIED:20260219T182107Z
UID:9016-1772560800-1772564400@www.vital-fabrik.at
SUMMARY:Gesunder Rücken mit Sebastian
DESCRIPTION:Jeden Dienstag „Gesunder Rücken“ mit Sebastian \n  \nfitcoachsebastian – Work out to feel good
URL:https://www.vital-fabrik.at/event/gesunder-ruecken-mit-sebastian-3/
LOCATION:VITAL Fabrik – Saal Süd –\, Draschestraße 31\, Wien\, Wien\, 1230\, Österreich
CATEGORIES:VIFa Move
ATTACH;FMTTYPE=image/jpeg:https://www.vital-fabrik.at/wp-content/uploads/2023/04/DSCF6080-scaled-e1682368909671.jpg
ORGANIZER;CN="Sebastian":MAILTO:post@vital-fabrik.at
END:VEVENT
END:VCALENDAR